BEGIN:VCALENDAR
PRODID:-//AT Content Types//AT Event//EN
VERSION:2.0
METHOD:PUBLISH
BEGIN:VEVENT
DTSTAMP:20260423T012331Z
CREATED:20241112T140855Z
UID:ATEvent-422907254d5341ac9dd0700e17b94e73
LAST-MODIFIED:20241203T102725Z
SUMMARY:Online Workshop with the Public
DTSTART:20241203T170000Z
DTEND:20241203T183000Z
DESCRIPTION:Online workshop joining instructions:\nClick on the link t
 o join the workshop at the bottom of this webpage.\nOr join via the Me
 eting ID and Passcode below.\nMeeting ID: 323 030 984 759\nPasscode: h
 jgi7J\n\nThe session will be run on Microsoft Teams. If you are using 
 a tablet or computer you can use your browser. If you use a mobile pho
 ne you may be prompted to download the free Microsoft Teams App and jo
 in as a guest. If you need more help accessing Teams on the 'Help to a
 ccess' link at the bottom of the page.
CLASS:PUBLIC
END:VEVENT
END:VCALENDAR
