BEGIN:VCALENDAR
PRODID:-//AT Content Types//AT Event//EN
VERSION:2.0
METHOD:PUBLISH
BEGIN:VEVENT
DTSTAMP:20260423T001114Z
CREATED:20241112T140855Z
UID:ATEvent-26f3c2eb43684625b2090c54d64231dc
LAST-MODIFIED:20241203T102725Z
SUMMARY:Public Exhibition on the Proposals @ United Reformed Church
DTSTART:20241130T100000Z
DTEND:20241130T130000Z
DESCRIPTION:Proposal will be exhibited to the public at the United Ref
 ormed Church\, 2 Chapel Street\, Nuneaton\, CV11 5QH.
CLASS:PUBLIC
END:VEVENT
END:VCALENDAR
