BEGIN:VCALENDAR
PRODID:-//AT Content Types//AT Event//EN
VERSION:2.0
METHOD:PUBLISH
BEGIN:VEVENT
DTSTAMP:20260423T000917Z
CREATED:20241112T134513Z
UID:ATEvent-9ae861971fdc4f329ffe529d012531aa
LAST-MODIFIED:20241203T102725Z
SUMMARY:Public Exhibition on the Proposals @ United Reformed Church
DTSTART:20241123T100000Z
DTEND:20241123T130000Z
DESCRIPTION:Proposal will be exhibited to the public at the United Ref
 ormed Church\, 2 Chapel Street\, Nuneaton\, CV11 5QH.
CLASS:PUBLIC
END:VEVENT
END:VCALENDAR
