BEGIN:VCALENDAR
PRODID:-//AT Content Types//AT Event//EN
VERSION:2.0
METHOD:PUBLISH
BEGIN:VEVENT
DTSTAMP:20260422T202325Z
CREATED:20220110T173437Z
UID:ATEvent-147f248c611d4e6ebfe82d8055f13ad6
LAST-MODIFIED:20250625T124154Z
SUMMARY:Drop-in session
DTSTART:20180718T130000Z
DTEND:20180718T160000Z
DESCRIPTION:CHESS Building\, Camp Hill.
CLASS:PUBLIC
END:VEVENT
END:VCALENDAR
