BEGIN:VCALENDAR
PRODID:-//AT Content Types//AT Event//EN
VERSION:2.0
METHOD:PUBLISH
BEGIN:VEVENT
DTSTAMP:20260422T202427Z
CREATED:20220110T173437Z
UID:ATEvent-aa8ba8aa33394fdd81662bd54c610cc2
LAST-MODIFIED:20250625T124154Z
SUMMARY:Drop-in session
DTSTART:20180711T140000Z
DTEND:20180711T170000Z
DESCRIPTION:CHESS Building\, Camp Hill.
CLASS:PUBLIC
END:VEVENT
END:VCALENDAR
