BEGIN:VCALENDAR
PRODID:-//AT Content Types//AT Event//EN
VERSION:2.0
METHOD:PUBLISH
BEGIN:VEVENT
DTSTAMP:20260422T202319Z
CREATED:20220110T173437Z
UID:ATEvent-9a5d29e88e86472fa025f72a4f707449
LAST-MODIFIED:20250625T124154Z
SUMMARY:Drop-in session
DTSTART:20180704T140000Z
DTEND:20180704T170000Z
DESCRIPTION:CHESS Building\, Camp Hill.
CLASS:PUBLIC
END:VEVENT
END:VCALENDAR
