BEGIN:VCALENDAR
PRODID:-//AT Content Types//AT Event//EN
VERSION:2.0
METHOD:PUBLISH
BEGIN:VEVENT
DTSTAMP:20260419T222436Z
CREATED:20180117T154037Z
UID:ATEvent-dde30b62b86e15e534ecb20ad480900f
LAST-MODIFIED:20220830T115917Z
SUMMARY:Avon Support
DTSTART:20171012T123000Z
DTEND:20171012T143000Z
DESCRIPTION:Western Rd\, Stratford-upon-Avon CV37 0AH
CLASS:PUBLIC
END:VEVENT
END:VCALENDAR
