BEGIN:VCALENDAR
PRODID:-//AT Content Types//AT Event//EN
VERSION:2.0
METHOD:PUBLISH
BEGIN:VEVENT
DTSTAMP:20260419T222450Z
CREATED:20180117T154037Z
UID:ATEvent-3b585403dfc17eee11a939f9e987d1d1
LAST-MODIFIED:20220830T115917Z
SUMMARY:Caldwell Grange
DTSTART:20171003T123000Z
DTEND:20171003T143000Z
DESCRIPTION:Donnithorne Avenue\, Nuneaton CV11 4QJ
CLASS:PUBLIC
END:VEVENT
END:VCALENDAR
