BEGIN:VCALENDAR
PRODID:-//AT Content Types//AT Event//EN
VERSION:2.0
METHOD:PUBLISH
BEGIN:VEVENT
DTSTAMP:20260419T222441Z
CREATED:20180117T154037Z
UID:ATEvent-8f401724a1d5a0465a5ff4744fb06843
LAST-MODIFIED:20220830T115916Z
SUMMARY:Individual Support Solutions (ISS)
DTSTART:20171024T120000Z
DTEND:20171024T140000Z
DESCRIPTION:Powell House\, Church Street\, Nuneaton CV11 4DSUntitled E
 vent
CLASS:PUBLIC
END:VEVENT
END:VCALENDAR
