BEGIN:VCALENDAR
PRODID:-//AT Content Types//AT Event//EN
VERSION:2.0
METHOD:PUBLISH
BEGIN:VEVENT
DTSTAMP:20260419T222441Z
CREATED:20180117T154037Z
UID:ATEvent-9a17910e3c0804cae2dff54fb2b811eb
LAST-MODIFIED:20220830T115917Z
SUMMARY:Individual Support Solutions (ISS)
DTSTART:20171017T090000Z
DTEND:20171017T110000Z
DESCRIPTION:Rugby 37 Albert St\, Rugby CV21 2SG
CLASS:PUBLIC
END:VEVENT
END:VCALENDAR
