BEGIN:VCALENDAR
PRODID:-//AT Content Types//AT Event//EN
VERSION:2.0
METHOD:PUBLISH
BEGIN:VEVENT
DTSTAMP:20260419T222540Z
CREATED:20180117T154037Z
UID:ATEvent-41735ce6f25fbdfbe77392f11485a2ca
LAST-MODIFIED:20220830T115916Z
SUMMARY:Satkaar Asian Elders Day Care Services,
DTSTART:20171006T100000Z
DTEND:20171006T120000Z
DESCRIPTION:17a-17b Queensway Trading Estate\, Queensway\, Leamington 
 Spa\, Warwickshire\, CV31 3LZ,
CLASS:PUBLIC
END:VEVENT
END:VCALENDAR
