BEGIN:VCALENDAR
PRODID:-//AT Content Types//AT Event//EN
VERSION:2.0
METHOD:PUBLISH
BEGIN:VEVENT
DTSTAMP:20260422T224753Z
CREATED:20230109T154138Z
UID:ATEvent-5bb22996040f40ddbb280a8c06af6394
LAST-MODIFIED:20230620T085104Z
SUMMARY:Drop-in information session\, Rugby Central Shopping Centre
DTSTART:20230204T090000Z
DTEND:20230204T140000Z
DESCRIPTION:Rugby Central Shopping Centre\, (outside Wilkos)\, Market 
 Mall\, Rugby CV21 2JR
CLASS:PUBLIC
END:VEVENT
END:VCALENDAR
