BEGIN:VCALENDAR
PRODID:-//AT Content Types//AT Event//EN
VERSION:2.0
METHOD:PUBLISH
BEGIN:VEVENT
DTSTAMP:20260422T224738Z
CREATED:20210504T114330Z
UID:ATEvent-669c8d839d204257870ed0df9b54e1f8
LAST-MODIFIED:20230620T085104Z
SUMMARY:Drop-in information session\, Houlton
DTSTART:20230203T140000Z
DTEND:20230203T190000Z
DESCRIPTION:The Barn at Houlton\, Dollman Road\, Houlton\, Rugby CV23 
 1AL
CLASS:PUBLIC
END:VEVENT
END:VCALENDAR
