BEGIN:VCALENDAR
PRODID:-//AT Content Types//AT Event//EN
VERSION:2.0
METHOD:PUBLISH
BEGIN:VEVENT
DTSTAMP:20260422T224435Z
CREATED:20221024T135752Z
UID:ATEvent-ac6c7ff0221b42e0b13f4f3860a824a7
LAST-MODIFIED:20221124T150104Z
SUMMARY:Online event
DTSTART:20221123T190000Z
DTEND:20221123T200000Z
DESCRIPTION:Microsoft Teams
CLASS:PUBLIC
END:VEVENT
END:VCALENDAR
