BEGIN:VCALENDAR
PRODID:-//AT Content Types//AT Event//EN
VERSION:2.0
METHOD:PUBLISH
BEGIN:VEVENT
DTSTAMP:20260422T224538Z
CREATED:20221024T135752Z
UID:ATEvent-ad0f3b632f224cb280fde88d20bfaf64
LAST-MODIFIED:20221124T150104Z
SUMMARY:Public drop-in session
DTSTART:20221114T100000Z
DTEND:20221114T150000Z
DESCRIPTION:Shire Hall\, Market Place\, Warwick\, CV34 4RL
CLASS:PUBLIC
END:VEVENT
END:VCALENDAR
