BEGIN:VCALENDAR
PRODID:-//AT Content Types//AT Event//EN
VERSION:2.0
METHOD:PUBLISH
BEGIN:VEVENT
DTSTAMP:20260422T190539Z
CREATED:20180118T124458Z
UID:ATEvent-5b58aa19de800057a8c52ee0abcefccc
LAST-MODIFIED:20190514T073257Z
SUMMARY:Drop in session: Atherstone Community Hub
DTSTART:20150303T103000Z
DTEND:20150303T143000Z
DESCRIPTION:The HUB\, 106 Long Street\, Atherstone\, CV9 1AN
CLASS:PUBLIC
END:VEVENT
END:VCALENDAR
