BEGIN:VCALENDAR
PRODID:-//AT Content Types//AT Event//EN
VERSION:2.0
METHOD:PUBLISH
BEGIN:VEVENT
DTSTAMP:20260422T190539Z
CREATED:20180118T124458Z
UID:ATEvent-f91b4969aa74aa9798fe6e2d9a293186
LAST-MODIFIED:20190514T073257Z
SUMMARY:Drop in session: Leamington Community Hub
DTSTART:20150305T103000Z
DTEND:20150305T143000Z
DESCRIPTION:The HUB\, Leamington Spa Hub Town Hall\, The Parade Leamin
 gton Spa\, CV32 4AT
CLASS:PUBLIC
END:VEVENT
END:VCALENDAR
