BEGIN:VCALENDAR
PRODID:-//AT Content Types//AT Event//EN
VERSION:2.0
METHOD:PUBLISH
BEGIN:VEVENT
DTSTAMP:20260422T190645Z
CREATED:20180118T124459Z
UID:ATEvent-f35b70d9deb1197646f82dc1375430c1
LAST-MODIFIED:20190514T073257Z
SUMMARY:Drop in session: Nuneaton Community Hub
DTSTART:20150311T103000Z
DTEND:20150311T143000Z
DESCRIPTION:ISS\, Church Street\, Nuneaton\, Warwickshire CV11 4DS
CLASS:PUBLIC
END:VEVENT
END:VCALENDAR
