BEGIN:VCALENDAR
PRODID:-//AT Content Types//AT Event//EN
VERSION:2.0
METHOD:PUBLISH
BEGIN:VEVENT
DTSTAMP:20260422T190645Z
CREATED:20180118T124459Z
UID:ATEvent-4526899262af5d1b53def65d89706b64
LAST-MODIFIED:20190514T073258Z
SUMMARY:Drop in session: Stratford Community Hub
DTSTART:20150210T103000Z
DTEND:20150210T143000Z
DESCRIPTION:The HUB\, Stratford Sports Club\, Swans Nest Lane\, Stratf
 ord upon Avon\, Warwickshire CV37 7LS
CLASS:PUBLIC
END:VEVENT
END:VCALENDAR
