BEGIN:VCALENDAR
PRODID:-//AT Content Types//AT Event//EN
VERSION:2.0
METHOD:PUBLISH
BEGIN:VEVENT
DTSTAMP:20260422T190519Z
CREATED:20180118T124458Z
UID:ATEvent-aced37b585dd3948e074db408d66139f
LAST-MODIFIED:20190514T073257Z
SUMMARY:Drop in session: Studley Community Hub
DTSTART:20150326T103000Z
DTEND:20150326T143000Z
DESCRIPTION:The Hub\, Studley Village Hall High Street Studley B80 7HJ
 
CLASS:PUBLIC
END:VEVENT
END:VCALENDAR
