BEGIN:VCALENDAR
PRODID:-//AT Content Types//AT Event//EN
VERSION:2.0
METHOD:PUBLISH
BEGIN:VEVENT
DTSTAMP:20260422T190612Z
CREATED:20180118T124459Z
UID:ATEvent-d534d304236bdf0cdd4c33a4d9f8c3dc
LAST-MODIFIED:20190514T073258Z
SUMMARY:Drop in session: The Hub Community Cafe Rugby
DTSTART:20150328T103000Z
DTEND:20150328T143000Z
DESCRIPTION:31-32 High Street\, Rugby\, Warwickshire CV21 3BW
CLASS:PUBLIC
END:VEVENT
END:VCALENDAR
