BEGIN:VCALENDAR
PRODID:-//AT Content Types//AT Event//EN
VERSION:2.0
METHOD:PUBLISH
BEGIN:VEVENT
DTSTAMP:20260423T001925Z
CREATED:20240425T142743Z
UID:ATEvent-128bbb6f9e644f188d4dd768ee67badf
LAST-MODIFIED:20240513T085804Z
SUMMARY:Public Drop in Session (2pm to 4pm)
DTSTART:20240515T130000Z
DTEND:20240515T150000Z
DESCRIPTION:Broadstreet Rugby Football Club \nThe Ivor Preece Field\nR
 ugby Road\nCoventry\nWarwickshire\, CV3 2AY
CLASS:PUBLIC
END:VEVENT
END:VCALENDAR
