BEGIN:VCALENDAR
PRODID:-//AT Content Types//AT Event//EN
VERSION:2.0
METHOD:PUBLISH
BEGIN:VEVENT
DTSTAMP:20260423T001715Z
CREATED:20240425T142743Z
UID:ATEvent-417bb9403f564920a1f2270973342cce
LAST-MODIFIED:20240513T085804Z
SUMMARY:Public Drop in Session (4:30pm to 6:30pm)
DTSTART:20240515T153000Z
DTEND:20240515T173000Z
DESCRIPTION:Broadstreet Rugby Football Club \nThe Ivor Preece Field\nR
 ugby Road\nCoventry\nWarwickshire\, CV3 2AY
CLASS:PUBLIC
END:VEVENT
END:VCALENDAR
